BEGIN:VCALENDAR
VERSION:2.0
PRODID:-//Pastor Tinu George | Jesus Is Alive Global Worship Center - ECPv6.15.14//NONSGML v1.0//EN
CALSCALE:GREGORIAN
METHOD:PUBLISH
X-ORIGINAL-URL:https://pastortinugeorge.org
X-WR-CALDESC:Events for Pastor Tinu George | Jesus Is Alive Global Worship Center
REFRESH-INTERVAL;VALUE=DURATION:PT1H
X-Robots-Tag:noindex
X-PUBLISHED-TTL:PT1H
BEGIN:VTIMEZONE
TZID:Asia/Kolkata
BEGIN:STANDARD
TZOFFSETFROM:+0530
TZOFFSETTO:+0530
TZNAME:IST
DTSTART:20240101T000000
END:STANDARD
END:VTIMEZONE
BEGIN:VEVENT
DTSTART;TZID=Asia/Kolkata:20250412T180000
DTEND;TZID=Asia/Kolkata:20250413T210000
DTSTAMP:20260423T175633
CREATED:20250410T001829Z
LAST-MODIFIED:20250410T004329Z
UID:883-1744480800-1744578000@pastortinugeorge.org
SUMMARY:Deliverance Meeting and Healing Service (Kattapanna)
DESCRIPTION:
URL:https://pastortinugeorge.org/event/deliverance-meeting-and-healing-service/
LOCATION:Kattapanna\, Kerala\, India
ATTACH;FMTTYPE=image/jpeg:https://pastortinugeorge.org/wp-content/uploads/2025/04/deliverance-meeting-and-healing-service_april-12-and-13.jpeg
END:VEVENT
END:VCALENDAR