BEGIN:VCALENDAR
VERSION:2.0
PRODID:-//Pastor Tinu George | Jesus Is Alive Global Worship Center - ECPv6.15.14//NONSGML v1.0//EN
CALSCALE:GREGORIAN
METHOD:PUBLISH
X-WR-CALNAME:Pastor Tinu George | Jesus Is Alive Global Worship Center
X-ORIGINAL-URL:https://pastortinugeorge.org
X-WR-CALDESC:Events for Pastor Tinu George | Jesus Is Alive Global Worship Center
REFRESH-INTERVAL;VALUE=DURATION:PT1H
X-Robots-Tag:noindex
X-PUBLISHED-TTL:PT1H
BEGIN:VTIMEZONE
TZID:Asia/Kolkata
BEGIN:STANDARD
TZOFFSETFROM:+0530
TZOFFSETTO:+0530
TZNAME:IST
DTSTART:20240101T000000
END:STANDARD
END:VTIMEZONE
BEGIN:VEVENT
DTSTART;TZID=Asia/Kolkata:20250803T080000
DTEND;TZID=Asia/Kolkata:20250803T170000
DTSTAMP:20260421T182253
CREATED:20250723T172322Z
LAST-MODIFIED:20250723T172322Z
UID:1565-1754208000-1754240400@pastortinugeorge.org
SUMMARY:Pr. Tinu George ministering in Dallas Texas
DESCRIPTION:
URL:https://pastortinugeorge.org/event/pr-tinu-george-ministering-in-dallas-texas/
ATTACH;FMTTYPE=image/png:https://pastortinugeorge.org/wp-content/uploads/2025/07/aug-03.png
END:VEVENT
END:VCALENDAR