BEGIN:VCALENDAR
VERSION:2.0
PRODID:-//Pastor Tinu George | Jesus Is Alive Global Worship Center - ECPv6.15.14//NONSGML v1.0//EN
CALSCALE:GREGORIAN
METHOD:PUBLISH
X-WR-CALNAME:Pastor Tinu George | Jesus Is Alive Global Worship Center
X-ORIGINAL-URL:https://pastortinugeorge.org
X-WR-CALDESC:Events for Pastor Tinu George | Jesus Is Alive Global Worship Center
REFRESH-INTERVAL;VALUE=DURATION:PT1H
X-Robots-Tag:noindex
X-PUBLISHED-TTL:PT1H
BEGIN:VTIMEZONE
TZID:Asia/Kolkata
BEGIN:STANDARD
TZOFFSETFROM:+0530
TZOFFSETTO:+0530
TZNAME:IST
DTSTART:20240101T000000
END:STANDARD
END:VTIMEZONE
BEGIN:VEVENT
DTSTART;VALUE=DATE:20250808
DTEND;VALUE=DATE:20250810
DTSTAMP:20260421T205912
CREATED:20250802T033309Z
LAST-MODIFIED:20250802T033309Z
UID:1578-1754611200-1754783999@pastortinugeorge.org
SUMMARY:Pr. Tinu George ministering Florida USA
DESCRIPTION:[vc_row][vc_column][vc_column_text]Ebenezer India\, Pentecostal Church\, 5935 Strickland\, Ave. Lakeland Fl. 33813\nAug. 08 – 6:30pm\nAug. 09 – 10:00am\nWorship led by Pr. Dani Tac\nMeeting Led by Pr. Tigi George[/vc_column_text][/vc_column][/vc_row]
URL:https://pastortinugeorge.org/event/pr-tinu-george-ministering-florida-usa/
CATEGORIES:USA
ATTACH;FMTTYPE=image/png:https://pastortinugeorge.org/wp-content/uploads/2025/07/aug-08-09.png
END:VEVENT
END:VCALENDAR