BEGIN:VCALENDAR
VERSION:2.0
PRODID:-//Pastor Tinu George | Jesus Is Alive Global Worship Center - ECPv6.15.14//NONSGML v1.0//EN
CALSCALE:GREGORIAN
METHOD:PUBLISH
X-WR-CALNAME:Pastor Tinu George | Jesus Is Alive Global Worship Center
X-ORIGINAL-URL:https://pastortinugeorge.org
X-WR-CALDESC:Events for Pastor Tinu George | Jesus Is Alive Global Worship Center
REFRESH-INTERVAL;VALUE=DURATION:PT1H
X-Robots-Tag:noindex
X-PUBLISHED-TTL:PT1H
BEGIN:VTIMEZONE
TZID:Asia/Kolkata
BEGIN:STANDARD
TZOFFSETFROM:+0530
TZOFFSETTO:+0530
TZNAME:IST
DTSTART:20240101T000000
END:STANDARD
END:VTIMEZONE
BEGIN:VEVENT
DTSTART;VALUE=DATE:20250817
DTEND;VALUE=DATE:20250818
DTSTAMP:20260423T141543
CREATED:20250802T034034Z
LAST-MODIFIED:20250802T034034Z
UID:1583-1755388800-1755475199@pastortinugeorge.org
SUMMARY:Prophetic & Healing Conference
DESCRIPTION:Aug. 17\n5:00pm\nChrist family fellowship\, 924 Albany Street\, Schenectady\, NY 12307\, United States
URL:https://pastortinugeorge.org/event/prophetic-healing-conference-2/
CATEGORIES:USA
ATTACH;FMTTYPE=image/png:https://pastortinugeorge.org/wp-content/uploads/2025/07/aug-17.png
END:VEVENT
END:VCALENDAR