BEGIN:VCALENDAR
VERSION:2.0
PRODID:-//Pastor Tinu George | Jesus Is Alive Global Worship Center - ECPv6.15.14//NONSGML v1.0//EN
CALSCALE:GREGORIAN
METHOD:PUBLISH
X-WR-CALNAME:Pastor Tinu George | Jesus Is Alive Global Worship Center
X-ORIGINAL-URL:https://pastortinugeorge.org
X-WR-CALDESC:Events for Pastor Tinu George | Jesus Is Alive Global Worship Center
REFRESH-INTERVAL;VALUE=DURATION:PT1H
X-Robots-Tag:noindex
X-PUBLISHED-TTL:PT1H
BEGIN:VTIMEZONE
TZID:Asia/Kolkata
BEGIN:STANDARD
TZOFFSETFROM:+0530
TZOFFSETTO:+0530
TZNAME:IST
DTSTART:20240101T000000
END:STANDARD
END:VTIMEZONE
BEGIN:VEVENT
DTSTART;VALUE=DATE:20251011
DTEND;VALUE=DATE:20251012
DTSTAMP:20260421T154205
CREATED:20251114T070352Z
LAST-MODIFIED:20251114T070352Z
UID:1675-1760140800-1760227199@pastortinugeorge.org
SUMMARY:Saturday Night Service at Thiruvananthapuram Pastor Tinu George Ministering | Oct 11
DESCRIPTION:
URL:https://pastortinugeorge.org/event/saturday-night-service-at-thiruvananthapuram-pastor-tinu-george-ministering-oct-11/
CATEGORIES:Trivandrum
ATTACH;FMTTYPE=image/jpeg:https://pastortinugeorge.org/wp-content/uploads/2025/11/Saturday-Night-Service-at-Thiruvananthapuram-Pastor-Tinu-George-Ministering-October-11.jpeg
END:VEVENT
END:VCALENDAR