BEGIN:VCALENDAR
VERSION:2.0
PRODID:-//Pastor Tinu George | Jesus Is Alive Global Worship Center - ECPv6.15.14//NONSGML v1.0//EN
CALSCALE:GREGORIAN
METHOD:PUBLISH
X-WR-CALNAME:Pastor Tinu George | Jesus Is Alive Global Worship Center
X-ORIGINAL-URL:https://pastortinugeorge.org
X-WR-CALDESC:Events for Pastor Tinu George | Jesus Is Alive Global Worship Center
REFRESH-INTERVAL;VALUE=DURATION:PT1H
X-Robots-Tag:noindex
X-PUBLISHED-TTL:PT1H
BEGIN:VTIMEZONE
TZID:Asia/Kolkata
BEGIN:STANDARD
TZOFFSETFROM:+0530
TZOFFSETTO:+0530
TZNAME:IST
DTSTART:20240101T000000
END:STANDARD
END:VTIMEZONE
BEGIN:VEVENT
DTSTART;VALUE=DATE:20251012
DTEND;VALUE=DATE:20251013
DTSTAMP:20260421T154208
CREATED:20251114T070815Z
LAST-MODIFIED:20251114T070815Z
UID:1684-1760227200-1760313599@pastortinugeorge.org
SUMMARY:Sunday Service Pastor Tinu George Ministering at Trivandrum | Oct 12
DESCRIPTION:
URL:https://pastortinugeorge.org/event/sunday-service-pastor-tinu-george-ministering-at-trivandrum-oct-12/
CATEGORIES:Trivandrum
ATTACH;FMTTYPE=image/jpeg:https://pastortinugeorge.org/wp-content/uploads/2025/11/Sunday-Service-Pastor-Tinu-George-Ministering-at-Trivandrum-October-12.jpeg
END:VEVENT
END:VCALENDAR