BEGIN:VCALENDAR
VERSION:2.0
PRODID:-//Pastor Tinu George | Jesus Is Alive Global Worship Center - ECPv6.15.14//NONSGML v1.0//EN
CALSCALE:GREGORIAN
METHOD:PUBLISH
X-ORIGINAL-URL:https://pastortinugeorge.org
X-WR-CALDESC:Events for Pastor Tinu George | Jesus Is Alive Global Worship Center
REFRESH-INTERVAL;VALUE=DURATION:PT1H
X-Robots-Tag:noindex
X-PUBLISHED-TTL:PT1H
BEGIN:VTIMEZONE
TZID:Asia/Kolkata
BEGIN:STANDARD
TZOFFSETFROM:+0530
TZOFFSETTO:+0530
TZNAME:IST
DTSTART:20240101T000000
END:STANDARD
END:VTIMEZONE
BEGIN:VEVENT
DTSTART;VALUE=DATE:20250501
DTEND;VALUE=DATE:20250503
DTSTAMP:20260423T152321
CREATED:20250410T015357Z
LAST-MODIFIED:20250410T015805Z
UID:926-1746057600-1746230399@pastortinugeorge.org
SUMMARY:Peace be with you (Kuwait)
DESCRIPTION:[vc_row enable_content_animation=”yes” ca_init_scale_x=”1″ ca_init_scale_y=”1″ ca_init_opacity=”0″ ca_an_scale_x=”1″ ca_an_scale_y=”1″ ca_an_opacity=”1″ bg_position=”custom” css=”.vc_custom_1744248990342{background-position: 0 0 !important;background-repeat: no-repeat !important;}” bg_pos_h=”-250px” bg_pos_v=”40%” ca_duration=”1800″ ca_delay=”200″ ca_init_translate_y=”45″ ca_init_rotate_z=”5″ responsive_css=”margin_top_medium:70px”][vc_column offset=”vc_col-md-4″]\n\n	\n					\n	\n		\n		\n		\n		\n	Location:Kuwait			\n		\n	\n\n[/vc_column][vc_column offset=”vc_col-md-4″]\n\n	\n					\n	\n		\n		\n		\n		\n	Event Dates:01-02 May (Thursday\, Friday)			\n		\n	\n\n[/vc_column][vc_column offset=”vc_col-md-4″ responsive_css=”padding_right_medium:20px|padding_left_medium:20px”]\n\n	\n					\n	\n		\n		\n		\n		\n	Timings:6:00pm - 9.30pm			\n		\n	\n\n[/vc_column][/vc_row][vc_row][vc_column][vc_column_text]Pastor Tinu George ministering in Kuwait\, Abbasiya \nCall: (+965) 65184894\, 65681964\, 65054535\, 66279091[/vc_column_text][/vc_column][/vc_row]
URL:https://pastortinugeorge.org/event/peace-be-with-you-kuwait/
LOCATION:Kuwait
ATTACH;FMTTYPE=image/jpeg:https://pastortinugeorge.org/wp-content/uploads/2025/04/Peace-be-with-you-Kuwait.jpeg
END:VEVENT
BEGIN:VEVENT
DTSTART;VALUE=DATE:20250510
DTEND;VALUE=DATE:20250513
DTSTAMP:20260423T152321
CREATED:20250410T012319Z
LAST-MODIFIED:20250410T015032Z
UID:914-1746835200-1747094399@pastortinugeorge.org
SUMMARY:Peace be with you (Qatar)
DESCRIPTION:[vc_row enable_content_animation=”yes” ca_init_scale_x=”1″ ca_init_scale_y=”1″ ca_init_opacity=”0″ ca_an_scale_x=”1″ ca_an_scale_y=”1″ ca_an_opacity=”1″ bg_position=”custom” css=”.vc_custom_1744248990342{background-position: 0 0 !important;background-repeat: no-repeat !important;}” bg_pos_h=”-250px” bg_pos_v=”40%” ca_duration=”1800″ ca_delay=”200″ ca_init_translate_y=”45″ ca_init_rotate_z=”5″ responsive_css=”margin_top_medium:70px”][vc_column offset=”vc_col-md-4″]\n\n	\n					\n	\n		\n		\n		\n		\n	Event Dates:10\, 11\, 12 May 2025			\n		\n	\n\n[/vc_column][vc_column offset=”vc_col-md-4″ responsive_css=”padding_right_medium:20px|padding_left_medium:20px”]\n\n	\n					\n	\n		\n		\n		\n		\n	Timings:7:00pm - 10:00pm 			\n		\n	\n\n[/vc_column][/vc_row][vc_row][vc_column][vc_column_text]Pr. Tinu George ministering\nWorship Lead by Emmanuel KB \nEphesus Hall\, Anglican Center\, Religious Complex\, Doha – Qatar \nPh: (+974) 55905767[/vc_column_text][/vc_column][/vc_row]
URL:https://pastortinugeorge.org/event/peace-be-with-you-qatar/
LOCATION:Qatar
ATTACH;FMTTYPE=image/jpeg:https://pastortinugeorge.org/wp-content/uploads/2025/04/Peace-be-with-you-Qatar.jpeg
END:VEVENT
BEGIN:VEVENT
DTSTART;VALUE=DATE:20250514
DTEND;VALUE=DATE:20250517
DTSTAMP:20260423T152321
CREATED:20250410T020046Z
LAST-MODIFIED:20250410T021937Z
UID:933-1747180800-1747439999@pastortinugeorge.org
SUMMARY:Peace be with you (Bahrain)
DESCRIPTION:[vc_row enable_content_animation=”yes” ca_init_scale_x=”1″ ca_init_scale_y=”1″ ca_init_opacity=”0″ ca_an_scale_x=”1″ ca_an_scale_y=”1″ ca_an_opacity=”1″ bg_position=”custom” css=”.vc_custom_1744248990342{background-position: 0 0 !important;background-repeat: no-repeat !important;}” bg_pos_h=”-250px” bg_pos_v=”40%” ca_duration=”1800″ ca_delay=”200″ ca_init_translate_y=”45″ ca_init_rotate_z=”5″ responsive_css=”margin_top_medium:70px”][vc_column offset=”vc_col-md-4″]\n\n	\n					\n	\n		\n		\n		\n		\n	Location:Baharain			\n		\n	\n\n[/vc_column][vc_column offset=”vc_col-md-4″][/vc_column][vc_column offset=”vc_col-md-4″ responsive_css=”padding_right_medium:20px|padding_left_medium:20px”][/vc_column][/vc_row][vc_row][vc_column][vc_column_text]Pr. Tinu George ministering \nLocation: IPC Bethel Bahrain\, Gate No. 2313 / House No. 8\, road No: 3961\, Block No. 439\, Area: North Sehla\, Kingdom of Bahrain \nPhone: 66979888\, 39316994[/vc_column_text][/vc_column][/vc_row]
URL:https://pastortinugeorge.org/event/peace-be-with-you-bahrain/
LOCATION:Bahrain
CATEGORIES:Bahrain
ATTACH;FMTTYPE=image/jpeg:https://pastortinugeorge.org/wp-content/uploads/2025/04/Peace-be-with-you-Baharain.jpeg
END:VEVENT
END:VCALENDAR